1.641003656727262
0
0
-1.640764999999859
1556918.834235465
6649646.646567499
